Workbook

Sheet 원가계산서
B1: 공 사 원 가 계 산 서
B2: 공사명 : (재)포항테크노파크 본부동 옥상층 도막방수 공사 | F2: ="금 액 : 일금"&NUMBERSTRING(E33,1)&"원정"&"("&DOLLAR(E33,)&")" -> 금 액 : 일금영원정(₩0)
B3: 비 목 | E3: 금 액 | F3: 구 성 비 | G3: 비 고
A4: A1 | B4: 순 공 사 원 가 | C4: 재 료 비 | D4: 직 접 재 료 비 | E4: =TRUNC(공종별집계표!F5, 0) -> 0
A5: A2 | D5: 간 접 재 료 비 | E5: 0
A6: A3 | D6: 작업설, 부산물(△) | E6: 0
A7: AS | D7: [ 소 계 ] | E7: =TRUNC(E4+E5-E6, 0) -> 0
A8: B1 | C8: 노 무 비 | D8: 직 접 노 무 비 | E8: =TRUNC(공종별집계표!H5, 0) -> 0
A9: B2 | D9: 간 접 노 무 비 | E9: =TRUNC(E8*0.175, 0) -> 0 | F9: 직접노무비 * 17.5%
A10: BS | D10: [ 소 계 ] | E10: =TRUNC(E8+E9, 0) -> 0
A11: C2 | C11: 경 비 | D11: 경 비 | E11: =TRUNC(공종별집계표!J5, 0) -> 0
A12: C4 | D12: 산 재 보 험 료 | E12: =TRUNC(E10*0.0356, 0) -> 0 | F12: 노무비 * 3.56%
A13: C5 | D13: 고 용 보 험 료 | E13: =TRUNC(E10*0.0101, 0) -> 0 | F13: 노무비 * 1.01%
A14: C6 | D14: 국민 건강 보험료 | E14: 2566582 | F14: 직접노무비 * 3.595%
A15: C7 | D15: 국민 연금 보험료 | E15: 3391173 | F15: 직접노무비 * 4.75%
A16: C8 | D16: 퇴직 공제 부금비 | E16: 1642041 | F16: 직접노무비 * 2.3%
A17: CA | D17: 산업안전보건관리비 | E17: 3148119 | F17: (재료비+직노+관급자재비) * 3.11%
A18: CB | D18: 노인장기요양보험료 | E18: 337248 | F18: 건강보험료 * 13.14%
A19: CG | D19: 기 타 경 비 | E19: =TRUNC((E7+E10)*0.05, 0) -> 0 | F19: (재료비+노무비) * 5%
A20: CD | D20: 석면분담금 | E20: =TRUNC(E10*0.00006, 0) -> 0 | F20: 노무비 * 0.006%
A21: CC | D21: 임금채권부담금 | E21: =TRUNC(E10*0.0009, 0) -> 0 | F21: 노무비 * 0.09%
A22: CH | D22: 환 경 보 전 비 | E22: =TRUNC((E7+E8+E11)*0.003, 0) -> 0 | F22: (재료비+직노+경비) * 0.3%
A23: CK | D23: 하도급지급보증수수료 | E23: 0 | F23: (재료비+직노+경비) * 0.081% | G23: 전문공사 제외
A24: CL | D24: 건설기계대여금지급보증서발급수수료 | E24: =TRUNC((E7+E8+E11)*0.001, 0) -> 0 | F24: (재료비+직노+경비) * 0.10%
A25: CS | D25: [ 소 계 ]
A26: S1 | B26: 계 | E26: =E7+E10+E25 -> 0
A27: D1 | B27: 일 반 관 리 비 | E27: =E26*0.08 -> 0 | F27: 계 * 8%
A28: D2 | B28: 이 윤 | E28: =(E10+E25+E27)*0.14 -> 0 | F28: (노무비+경비+일반관리비) * 14% | G28: 천단위미만 절사
A29: D4 | B29: 폐 기 물 처 리 비 | E29: =공종별집계표!T11 -> 0
A30: D9 | B30: 공 급 가 액 | E30: =E26+E27+E28+E29 -> 0
A31: DB | B31: 부 가 가 치 세 | E31: =E30*0.1 -> 0 | F31: 공급가액 * 10%
A32: DH | B32: 도 급 액 | E32: =E30+E31 -> 0
A33: S2 | B33: 총 공 사 비 | E33: =E32 -> 0

Sheet 공종별집계표
A1: 공 종 별 집 계 표
A2: [ (재)포항테크노파크 본부동 옥상층 도막방수 공사 ]
A3: 품 명 | B3: 규 격 | C3: 단위 | D3: 수량 | E3: 재 료 비 | G3: 노 무 비 | I3: 경 비 | K3: 합 계 | M3: 비 고 | N3: 공종코드 | O3: 변수 | P3: 상위공종 | Q3: 공종구분 | R3: 공종레벨 | S3: 공종소계 | T3: 원가계산서 연결금액
E4: 단 가 | F4: 금 액 | G4: 단 가 | H4: 금 액 | I4: 단 가 | J4: 금 액 | K4: 단 가 | L4: 금 액
A5: 01 포항테크노파크본부동옥상층도막방수공사 | D5: 1 | E5: =F6 -> 0 | F5: =E5*D5 -> 0 | G5: =H6 -> 0 | H5: =G5*D5 -> 0 | I5: =J6 -> 0 | J5: =I5*D5 -> 0 | K5: =E5+G5+I5 -> 0 | L5: =F5+H5+J5 -> 0 | N5: 01 | R5: 1
A6: 0101 ■ 건 축 공 사 | D6: 1 | E6: =F7+F8+F9+F10 -> 0 | F6: =E6*D6 -> 0 | G6: =H7+H8+H9+H10 -> 0 | H6: =G6*D6 -> 0 | I6: =J7+J8+J9+J10 -> 0 | J6: =I6*D6 -> 0 | K6: =E6+G6+I6 -> 0 | L6: =F6+H6+J6 -> 0 | N6: 0101 | P6: 01 | R6: 2
A7: 010101 가 설 공 사 | D7: 1 | E7: =공종별내역서!F27 -> 0 | F7: =E7*D7 -> 0 | G7: =공종별내역서!H27 -> 0 | H7: =G7*D7 -> 0 | I7: =공종별내역서!J27 -> 0 | J7: =I7*D7 -> 0 | K7: =E7+G7+I7 -> 0 | L7: =F7+H7+J7 -> 0 | N7: 010101 | P7: 0101 | R7: 3
A8: 010102 방 수 공 사 | D8: 1 | E8: =공종별내역서!F51 -> 0 | F8: =E8*D8 -> 0 | G8: =공종별내역서!H51 -> 0 | H8: =G8*D8 -> 0 | I8: =공종별내역서!J51 -> 0 | J8: =I8*D8 -> 0 | K8: =E8+G8+I8 -> 0 | L8: =F8+H8+J8 -> 0 | N8: 010102 | P8: 0101 | R8: 3
A9: 010103 지 붕 공 사 | D9: 1 | E9: =공종별내역서!F75 -> 0 | F9: =E9*D9 -> 0 | G9: =공종별내역서!H75 -> 0 | H9: =G9*D9 -> 0 | I9: =공종별내역서!J75 -> 0 | J9: =I9*D9 -> 0 | K9: =E9+G9+I9 -> 0 | L9: =F9+H9+J9 -> 0 | N9: 010103 | P9: 0101 | R9: 3
A10: 010104 철 거 공 사 | D10: 1 | E10: =공종별내역서!F99 -> 0 | F10: =E10*D10 -> 0 | G10: =공종별내역서!H99 -> 0 | H10: =G10*D10 -> 0 | I10: =공종별내역서!J99 -> 0 | J10: =I10*D10 -> 0 | K10: =E10+G10+I10 -> 0 | L10: =F10+H10+J10 -> 0 | N10: 010104 | P10: 0101 | R10: 3
A11: 0102 ■ 폐기물 처리비 | D11: 1 | E11: =공종별내역서!F123 -> 0 | F11: =E11*D11 -> 0 | G11: =공종별내역서!H123 -> 0 | H11: =G11*D11 -> 0 | I11: =공종별내역서!J123 -> 0 | J11: =I11*D11 -> 0 | K11: =E11+G11+I11 -> 0 | L11: =F11+H11+J11 -> 0 | N11: 0102 | Q11: 6 | R11: 2 | T11: =L11*1 -> 0
A27: [ 합 계 ] | F27: =F5 -> 0 | H27: =H5 -> 0 | J27: =J5 -> 0 | L27: =L5 -> 0

Sheet 공종별내역서
A1: [ (재)포항테크노파크 본부동 옥상층 도막방수 공사 ]
A2: 품 명 | B2: 규 격 | C2: 단위 | D2: 수량 | E2: 재 료 비 | G2: 노 무 비 | I2: 경 비 | K2: 합 계 | M2: 비 고 | N2: 품목코드 | O2: 변수 | P2: 설정 | Q2: 공종코드 | R2: 일위 | S2: 단산 | T2: 자재 | U2: 손료적용 | V2: 손료저장 | W2: 적용율 | X2: JUK1 | Y2: JUK2 | Z2: JUK3 | AA2: JUK4 | AB2: JUK5 | AC2: JUK6 | AD2: JUK7 | AE2: JUK8 | AF2: JUK9 | AG2: JUK10 | AH2: JUK11 | AI2: JUK12 | AJ2: JUK13 | AK2: JUK14 | AL2: JUK15 | AM2: JUK16 | AN2: JUK17 | AO2: JUK18 | AP2: JUK19 | AQ2: JUK20 | AR2: 자재구분 | AS2: 공종구분 | AT2: 공종레벨 | AU2: 공종+자재 | AV2: 고유번호
E3: 단 가 | F3: 금 액 | G3: 단 가 | H3: 금 액 | I3: 단 가 | J3: 금 액 | K3: 단 가 | L3: 금 액
A4: 010101 가 설 공 사 | Q4: 010101
A5: 건축물 현장정리 | B5: 개보수 | C5: M2 | D5: 1230 | F5: =TRUNC(E5*D5, 0) -> 0 | H5: =TRUNC(G5*D5, 0) -> 0 | J5: =TRUNC(I5*D5, 0) -> 0 | K5: =TRUNC(E5+G5+I5, 0) -> 0 | L5: =TRUNC(F5+H5+J5, 0) -> 0 | M5: 호표 1 | N5: 45EE81628E96067C62E4870423181 | Q5: 010101 | R5: T | S5: F | T5: F | AU5: 01010145EE81628E96067C62E4870423181 | AV5: 25
Q6: 010101
Q7: 010101
Q8: 010101
Q9: 010101
Q10: 010101
Q11: 010101
Q12: 010101
Q13: 010101
Q14: 010101
Q15: 010101
Q16: 010101
Q17: 010101
... Q26: 010101
A27: [ 합 계 ] | F27: =SUMIF(Q5:Q26,"010101",F5:F26) -> 0 | H27: =SUMIF(Q5:Q26,"010101",H5:H26) -> 0 | J27: =SUMIF(Q5:Q26,"010101",J5:J26) -> 0 | L27: =SUMIF(Q5:Q26,"010101",L5:L26) -> 0 | N27: TOTAL
A28: 010102 방 수 공 사 | Q28: 010102
A29: 우레탄도막방수 | B29: 바닥, 노출 3MM | C29: ㎡ | D29: 1202 | F29: =TRUNC(E29*D29, 0) -> 0 | H29: =TRUNC(G29*D29, 0) -> 0 | J29: =TRUNC(I29*D29, 0) -> 0 | K29: =TRUNC(E29+G29+I29, 0) -> 0 | L29: =TRUNC(F29+H29+J29, 0) -> 0 | N29: 45EE883659BA0612A324CA424DCD6 | Q29: 010102 | R29: F | S29: F | T29: T | AU29: 01010245EE883659BA0612A324CA424DCD6 | AV29: 8
A30: 우레탄도막방수 | B30: 벽, 노출 3MM | C30: ㎡ | D30: 247 | F30: =TRUNC(E30*D30, 0) -> 0 | H30: =TRUNC(G30*D30, 0) -> 0 | J30: =TRUNC(I30*D30, 0) -> 0 | K30: =TRUNC(E30+G30+I30, 0) -> 0 | L30: =TRUNC(F30+H30+J30, 0) -> 0 | N30: 45EE88365A4006DEF4E4D44C77092 | Q30: 010102 | R30: F | S30: F | T30: T | AU30: 01010245EE88365A4006DEF4E4D44C77092 | AV30: 9
A31: 기존줄눈 U자 컷팅 | B31: 2.0m*2.0m | C31: M | D31: 1300 | F31: =TRUNC(E31*D31, 0) -> 0 | H31: =TRUNC(G31*D31, 0) -> 0 | J31: =TRUNC(I31*D31, 0) -> 0 | K31: =TRUNC(E31+G31+I31, 0) -> 0 | L31: =TRUNC(F31+H31+J31, 0) -> 0 | M31: 호표 2 | N31: 45EE84927A2F066E8414B2314C422 | Q31: 010102 | R31: T | S31: F | T31: F | AU31: 01010245EE84927A2F066E8414B2314C422 | AV31: 33
Q32: 010102
Q33: 010102
Q34: 010102
Q35: 010102
Q36: 010102
Q37: 010102
Q38: 010102
Q39: 010102
Q40: 010102
Q41: 010102
Q42: 010102
Q43: 010102
... Q50: 010102
A51: [ 합 계 ] | F51: =SUMIF(Q29:Q50,"010102",F29:F50) -> 0 | H51: =SUMIF(Q29:Q50,"010102",H29:H50) -> 0 | J51: =SUMIF(Q29:Q50,"010102",J29:J50) -> 0 | L51: =SUMIF(Q29:Q50,"010102",L29:L50) -> 0 | N51: TOTAL
A52: 010103 지 붕 공 사 | Q52: 010103
A53: 칼라강판 | B53: 골강판, 0.5t | C53: M2 | D53: 33 | F53: =TRUNC(E53*D53, 0) -> 0 | H53: =TRUNC(G53*D53, 0) -> 0 | J53: =TRUNC(I53*D53, 0) -> 0 | K53: =TRUNC(E53+G53+I53, 0) -> 0 | L53: =TRUNC(F53+H53+J53, 0) -> 0 | M53: 호표 3 | N53: 45EE8B68F09F06996EE486738FA32 | Q53: 010103 | R53: T | S53: F | T53: F | AU53: 01010345EE8B68F09F06996EE486738FA32 | AV53: 29
A54: 장비대 | B54: 고소작업차, 5ton | C54: 일 | D54: 2 | F54: =TRUNC(E54*D54, 0) -> 0 | H54: =TRUNC(G54*D54, 0) -> 0 | J54: =TRUNC(I54*D54, 0) -> 0 | K54: =TRUNC(E54+G54+I54, 0) -> 0 | L54: =TRUNC(F54+H54+J54, 0) -> 0 | M54: 호표 4 | N54: 45EF81D3FA27064D4DA462B9B0D7E | Q54: 010103 | R54: T | S54: F | T54: F | AU54: 01010345EF81D3FA27064D4DA462B9B0D7E | AV54: 28
A55: 실링재 | B55: 10㎜*10㎜ | C55: M | D55: 263 | F55: =TRUNC(E55*D55, 0) -> 0 | H55: =TRUNC(G55*D55, 0) -> 0 | J55: =TRUNC(I55*D55, 0) -> 0 | K55: =TRUNC(E55+G55+I55, 0) -> 0 | L55: =TRUNC(F55+H55+J55, 0) -> 0 | M55: 호표 5 | N55: 45EE883386E1065F38F4DBE3207F6 | Q55: 010103 | R55: T | S55: F | T55: F | AU55: 01010345EE883386E1065F38F4DBE3207F6 | AV55: 27
Q56: 010103
Q57: 010103
Q58: 010103
Q59: 010103
Q60: 010103
Q61: 010103
Q62: 010103
Q63: 010103
Q64: 010103
Q65: 010103
Q66: 010103
Q67: 010103
... Q74: 010103
A75: [ 합 계 ] | F75: =SUMIF(Q53:Q74,"010103",F53:F74) -> 0 | H75: =SUMIF(Q53:Q74,"010103",H53:H74) -> 0 | J75: =SUMIF(Q53:Q74,"010103",J53:J74) -> 0 | L75: =SUMIF(Q53:Q74,"010103",L53:L74) -> 0 | N75: TOTAL
A76: 010104 철 거 공 사 | Q76: 010104
A77: 기존방수층 제거 및 바탕처리 | B77: 바닥 | C77: M2 | D77: 1202 | F77: =TRUNC(E77*D77, 0) -> 0 | H77: =TRUNC(G77*D77, 0) -> 0 | J77: =TRUNC(I77*D77, 0) -> 0 | K77: =TRUNC(E77+G77+I77, 0) -> 0 | L77: =TRUNC(F77+H77+J77, 0) -> 0 | M77: 호표 6 | N77: 45EF81D03E6F064E9984974C39E1E | Q77: 010104 | R77: T | S77: F | T77: F | AU77: 01010445EF81D03E6F064E9984974C39E1E | AV77: 12
A78: 페인트긁어내기 | B78: 벽 | C78: M2 | D78: 247 | F78: =TRUNC(E78*D78, 0) -> 0 | H78: =TRUNC(G78*D78, 0) -> 0 | J78: =TRUNC(I78*D78, 0) -> 0 | K78: =TRUNC(E78+G78+I78, 0) -> 0 | L78: =TRUNC(F78+H78+J78, 0) -> 0 | M78: 호표 7 | N78: 45EF81D03E6F064E9984974C39AA3 | Q78: 010104 | R78: T | S78: F | T78: F | AU78: 01010445EF81D03E6F064E9984974C39AA3 | AV78: 30
A79: 폴리카보네이트 철거 | B79: 지붕, 5.0t | C79: M2 | D79: 33 | F79: =TRUNC(E79*D79, 0) -> 0 | H79: =TRUNC(G79*D79, 0) -> 0 | J79: =TRUNC(I79*D79, 0) -> 0 | K79: =TRUNC(E79+G79+I79, 0) -> 0 | L79: =TRUNC(F79+H79+J79, 0) -> 0 | M79: 호표 8 | N79: 45EE8F81654006DB13A46E81C805A | Q79: 010104 | R79: T | S79: F | T79: F | AU79: 01010445EE8F81654006DB13A46E81C805A | AV79: 31
A80: 폐기물소운반 | B80: 인력 | C80: M3 | D80: 4 | F80: =TRUNC(E80*D80, 0) -> 0 | H80: =TRUNC(G80*D80, 0) -> 0 | J80: =TRUNC(I80*D80, 0) -> 0 | K80: =TRUNC(E80+G80+I80, 0) -> 0 | L80: =TRUNC(F80+H80+J80, 0) -> 0 | M80: 호표 9 | N80: 45EF81D3F3FA066B8B54057C5C721 | Q80: 010104 | R80: T | S80: F | T80: F | AU80: 01010445EF81D3F3FA066B8B54057C5C721 | AV80: 18
A81: 폐콘크리트 상차비 | C81: TON | D81: 8 | F81: =TRUNC(E81*D81, 0) -> 0 | H81: =TRUNC(G81*D81, 0) -> 0 | J81: =TRUNC(I81*D81, 0) -> 0 | K81: =TRUNC(E81+G81+I81, 0) -> 0 | L81: =TRUNC(F81+H81+J81, 0) -> 0 | N81: 45A385242FC506A17F240BF6663BB3D28FC54 | Q81: 010104 | R81: F | S81: F | T81: T | AU81: 01010445A385242FC506A17F240BF6663BB3D28FC54 | AV81: 19
A82: 혼합건설폐기물 상차비 | B82: (매립지반입대상 폐기물 포함) | C82: TON | D82: 1 | F82: =TRUNC(E82*D82, 0) -> 0 | H82: =TRUNC(G82*D82, 0) -> 0 | J82: =TRUNC(I82*D82, 0) -> 0 | K82: =TRUNC(E82+G82+I82, 0) -> 0 | L82: =TRUNC(F82+H82+J82, 0) -> 0 | N82: 45A385242FC506A17F240BF6663BB3D28FC57 | Q82: 010104 | R82: F | S82: F | T82: T | AU82: 01010445A385242FC506A17F240BF6663BB3D28FC57 | AV82: 20
Q83: 010104
Q84: 010104
Q85: 010104
Q86: 010104
Q87: 010104
Q88: 010104
Q89: 010104
Q90: 010104
Q91: 010104
Q92: 010104
Q93: 010104
Q94: 010104
... Q98: 010104
A99: [ 합 계 ] | F99: =SUMIF(Q77:Q98,"010104",F77:F98) -> 0 | H99: =SUMIF(Q77:Q98,"010104",H77:H98) -> 0 | J99: =SUMIF(Q77:Q98,"010104",J77:J98) -> 0 | L99: =SUMIF(Q77:Q98,"010104",L77:L98) -> 0 | N99: TOTAL
A100: 0102 ■ 폐기물 처리비 | Q100: 0102
A101: 폐콘크리트 | C101: TON | D101: 8 | F101: =TRUNC(E101*D101, 0) -> 0 | H101: =TRUNC(G101*D101, 0) -> 0 | J101: =TRUNC(I101*D101, 0) -> 0 | K101: =TRUNC(E101+G101+I101, 0) -> 0 | L101: =TRUNC(F101+H101+J101, 0) -> 0 | N101: 45A385242FC506A17F240BF6662953AB50584 | Q101: 0102 | R101: F | S101: F | T101: T | AU101: 010245A385242FC506A17F240BF6662953AB50584 | AV101: 22
A102: 폐콘크리트 운반비 | B102: 30km | C102: TON | D102: 8 | F102: =TRUNC(E102*D102, 0) -> 0 | H102: =TRUNC(G102*D102, 0) -> 0 | J102: =TRUNC(I102*D102, 0) -> 0 | K102: =TRUNC(E102+G102+I102, 0) -> 0 | L102: =TRUNC(F102+H102+J102, 0) -> 0 | N102: 45A385242FC506A17F240BF6663BB3D28FE03 | Q102: 0102 | R102: F | S102: F | T102: T | AU102: 010245A385242FC506A17F240BF6663BB3D28FE03 | AV102: 32
A103: 혼합건설폐기물 | C103: TON | D103: 1 | F103: =TRUNC(E103*D103, 0) -> 0 | H103: =TRUNC(G103*D103, 0) -> 0 | J103: =TRUNC(I103*D103, 0) -> 0 | K103: =TRUNC(E103+G103+I103, 0) -> 0 | L103: =TRUNC(F103+H103+J103, 0) -> 0 | N103: 45A385242FC506A17F240BF6662953AB35AFF | Q103: 0102 | R103: F | S103: F | T103: T | AU103: 010245A385242FC506A17F240BF6662953AB35AFF | AV103: 23
A104: 혼합건설폐기물 운반비 | B104: 30km | C104: TON | D104: 1 | F104: =TRUNC(E104*D104, 0) -> 0 | H104: =TRUNC(G104*D104, 0) -> 0 | J104: =TRUNC(I104*D104, 0) -> 0 | K104: =TRUNC(E104+G104+I104, 0) -> 0 | L104: =TRUNC(F104+H104+J104, 0) -> 0 | N104: 45A385242FC506A17F240BF6663BB3D28F980 | Q104: 0102 | R104: F | S104: F | T104: T | AU104: 010245A385242FC506A17F240BF6663BB3D28F980 | AV104: 24
Q105: 0102
Q106: 0102
Q107: 0102
Q108: 0102
Q109: 0102
Q110: 0102
Q111: 0102
Q112: 0102
Q113: 0102
Q114: 0102
Q115: 0102
Q116: 0102
... Q122: 0102
A123: [ 합 계 ] | F123: =SUMIF(Q101:Q122,"0102",F101:F122) -> 0 | H123: =SUMIF(Q101:Q122,"0102",H101:H122) -> 0 | J123: =SUMIF(Q101:Q122,"0102",J101:J122) -> 0 | L123: =SUMIF(Q101:Q122,"0102",L101:L122) -> 0 | N123: TOTAL

Sheet  공사설정 
A1: 이 Sheet는 수정하지 마십시요
A2: 공사구분 | B2: A | C2: 타이틀
A3: 확정내역 | B3: 원내역
A4: 자재단가적용 | B4: 5
A5: 경비단가적용 | B5: 5
A6: 품목코드형식 | B6: XXXX-XXXX-XXXXXXXXX
A7: 내역금액소수점처리 | B7: C | C7: T
A8: 일위대가내역소수점처리 | B8: C | C8: 2
A9: 단가명 | B9: 조달청가격 | C9: 거래가격 | D9: 유통물가 | E9: 물가자료 | F9: 물정/조사 | G9: TTTTT
A10: 환율 | B10: 1472 | C10: 0 | D10: 0
A11: 시간당작업량 | B11: R | C11: 4
A12: 1회 사이클시간 | B12: R | C12: 4
A13: 시간당 작업사이클 | B13: R | C13: 3
A14: 일반변수 | B14: R | C14: 5
A15: 시간당 노임산출 계수 | B15: A | C15: 1/8*16/12*25/20 | D15: 1/8*16/12*25/20 | E15: 1/8*16/12*25/20 | F15: 1
A16: 재료비 할증 계수 | B16: 1.11 | C16: 1.12
A17: 노무비 할증 계수 | B17: 1 | C17: 1.5 | D17: 1.16 | E17: 1.6 | F17: 1.6 | G17: 1.6 | H17: 1.94 | I17: 1.94 | J17: 1.94 | K17: 1 | L17: 1 | M17: 1
A18: 경비 할증 계수 | B18: 1.25 | C18: 1.071
A19: 내역,일위대가 품명,규격,단위 따로적용
A20: 내역단가 소수점처리 | B20: C | C20: 1
A21: 코드 | B21: 공종구분명 | C21: 원가비목코드
A22: 1 | B22: 작 업 부 산 물 | C22: A3
A23: 2 | B23: 운 반 비 | C23: C1
A24: 3 | B24: 관 급 자 재 비 | C24: DJ
A25: 4 | B25: 사 급 자 재 비 | C25: D3
A26: 5 | B26: 해 상 운 반 비 | C26: D5
A27: 6 | B27: 폐기물 처리비 | C27: D4
A28: 7 | B28: 도급자관급자재대 | C28: DK
A29: 8 | B29: 관급자관급자재대 | C29: DL
A30: 9 | B30: 농 도 측 정 비 | C30: D6
A31: A | B31: ....
A32: B | B32: .....
A33: C | B33: ....
A34: D | B34: ....
A35: E | B35: ....
A36: F | B36: ....
A37: G | B37: ....
A38: H | B38: ....
A39: I | B39: ....
A40: J | B40: ....
A43: 단가 순서 | B43: 1234

Sheet Sheet1
